BEGIN:VCALENDAR
VERSION:2.0
PRODID:-//Bellevue Academy of Arts and Music - ECPv6.15.20//NONSGML v1.0//EN
CALSCALE:GREGORIAN
METHOD:PUBLISH
X-WR-CALNAME:Bellevue Academy of Arts and Music
X-ORIGINAL-URL:https://www.bellevueacademy.com
X-WR-CALDESC:Events for Bellevue Academy of Arts and Music
REFRESH-INTERVAL;VALUE=DURATION:PT1H
X-Robots-Tag:noindex
X-PUBLISHED-TTL:PT1H
BEGIN:VTIMEZONE
TZID:UTC
BEGIN:STANDARD
TZOFFSETFROM:+0000
TZOFFSETTO:+0000
TZNAME:UTC
DTSTART:20250101T000000
END:STANDARD
END:VTIMEZONE
BEGIN:VEVENT
DTSTART;VALUE=DATE:20260624
DTEND;VALUE=DATE:20260706
DTSTAMP:20260424T160514
CREATED:20251126T112016Z
LAST-MODIFIED:20251126T112016Z
UID:37643-1782259200-1783295999@www.bellevueacademy.com
SUMMARY:Summer Break (No Class)
DESCRIPTION:June 24 to July 5\, 2026
URL:https://www.bellevueacademy.com/event/summer-break-no-class/
LOCATION:WA
CATEGORIES:Closure
END:VEVENT
END:VCALENDAR